BEGIN:VCALENDAR
VERSION:2.0
PRODID:-//Derbyshire Bereavement Hub - ECPv5.4.0.1//NONSGML v1.0//EN
CALSCALE:GREGORIAN
METHOD:PUBLISH
X-WR-CALNAME:Derbyshire Bereavement Hub
X-ORIGINAL-URL:http://derbyshirebereavementhub.co.uk
X-WR-CALDESC:Events for Derbyshire Bereavement Hub
BEGIN:VTIMEZONE
TZID:UTC
BEGIN:STANDARD
TZOFFSETFROM:+0000
TZOFFSETTO:+0000
TZNAME:UTC
DTSTART:20190101T000000
END:STANDARD
END:VTIMEZONE
BEGIN:VEVENT
DTSTART;TZID=UTC:20190522T190000
DTEND;TZID=UTC:20190522T210000
DTSTAMP:20260424T081841
CREATED:20190507T095602Z
LAST-MODIFIED:20191126T141219Z
UID:955-1558551600-1558558800@derbyshirebereavementhub.co.uk
SUMMARY:The Compassionate Friends Group
DESCRIPTION:
URL:http://derbyshirebereavementhub.co.uk/event/the-compassionate-friends-group/
END:VEVENT
END:VCALENDAR