BEGIN:VCALENDAR
VERSION:2.0
PRODID:-//Derbyshire Bereavement Hub - ECPv5.4.0.1//NONSGML v1.0//EN
CALSCALE:GREGORIAN
METHOD:PUBLISH
X-WR-CALNAME:Derbyshire Bereavement Hub
X-ORIGINAL-URL:http://derbyshirebereavementhub.co.uk
X-WR-CALDESC:Events for Derbyshire Bereavement Hub
BEGIN:VTIMEZONE
TZID:UTC
BEGIN:STANDARD
TZOFFSETFROM:+0000
TZOFFSETTO:+0000
TZNAME:UTC
DTSTART:20190101T000000
END:STANDARD
END:VTIMEZONE
BEGIN:VEVENT
DTSTART;TZID=UTC:20190115T130000
DTEND;TZID=UTC:20190115T143000
DTSTAMP:20260423T032529
CREATED:20180306T135241Z
LAST-MODIFIED:20191126T151430Z
UID:132-1547557200-1547562600@derbyshirebereavementhub.co.uk
SUMMARY:DCHS Footsteps Bereavement Cafe
DESCRIPTION:
URL:http://derbyshirebereavementhub.co.uk/event/derbyshire-community-health-services/
END:VEVENT
END:VCALENDAR