BEGIN:VCALENDAR
VERSION:2.0
PRODID:-//Derbyshire Bereavement Hub - ECPv5.4.0.1//NONSGML v1.0//EN
CALSCALE:GREGORIAN
METHOD:PUBLISH
X-WR-CALNAME:Derbyshire Bereavement Hub
X-ORIGINAL-URL:http://derbyshirebereavementhub.co.uk
X-WR-CALDESC:Events for Derbyshire Bereavement Hub
BEGIN:VTIMEZONE
TZID:UTC
BEGIN:STANDARD
TZOFFSETFROM:+0000
TZOFFSETTO:+0000
TZNAME:UTC
DTSTART:20180101T000000
END:STANDARD
END:VTIMEZONE
BEGIN:VEVENT
DTSTART;TZID=UTC:20180313T193000
DTEND;TZID=UTC:20180313T213000
DTSTAMP:20260423T081037
CREATED:20180308T110636Z
LAST-MODIFIED:20190502T131938Z
UID:441-1520969400-1520976600@derbyshirebereavementhub.co.uk
SUMMARY:Derby Sands
DESCRIPTION:
URL:http://derbyshirebereavementhub.co.uk/event/derby-sands/
LOCATION:WEA\, The Mill
ORGANIZER;CN="Joanna%20Reeve":MAILTO:Joanna.reeve@asbestossupport.co.uk
END:VEVENT
END:VCALENDAR