BEGIN:VCALENDAR
VERSION:2.0
PRODID:-//Derbyshire Bereavement Hub - ECPv5.4.0.1//NONSGML v1.0//EN
CALSCALE:GREGORIAN
METHOD:PUBLISH
X-WR-CALNAME:Derbyshire Bereavement Hub
X-ORIGINAL-URL:http://derbyshirebereavementhub.co.uk
X-WR-CALDESC:Events for Derbyshire Bereavement Hub
BEGIN:VTIMEZONE
TZID:UTC
BEGIN:STANDARD
TZOFFSETFROM:+0000
TZOFFSETTO:+0000
TZNAME:UTC
DTSTART:20180101T000000
END:STANDARD
END:VTIMEZONE
BEGIN:VEVENT
DTSTART;TZID=UTC:20181107T133000
DTEND;TZID=UTC:20181107T153000
DTSTAMP:20260423T050900
CREATED:20180308T101557Z
LAST-MODIFIED:20191126T143319Z
UID:317-1541597400-1541604600@derbyshirebereavementhub.co.uk
SUMMARY:Ashbourne Dandelions
DESCRIPTION:
URL:http://derbyshirebereavementhub.co.uk/event/ashbourne-dandelions/
LOCATION:Cornerstone Cafe
END:VEVENT
END:VCALENDAR